BEGIN:VCALENDAR
VERSION:2.0
PRODID:-//Consilium Institute - ECPv6.15.20//NONSGML v1.0//EN
CALSCALE:GREGORIAN
METHOD:PUBLISH
X-WR-CALNAME:Consilium Institute
X-ORIGINAL-URL:https://consiliuminstitute.com
X-WR-CALDESC:Events for Consilium Institute
REFRESH-INTERVAL;VALUE=DURATION:PT1H
X-Robots-Tag:noindex
X-PUBLISHED-TTL:PT1H
BEGIN:VTIMEZONE
TZID:America/New_York
BEGIN:DAYLIGHT
TZOFFSETFROM:-0500
TZOFFSETTO:-0400
TZNAME:EDT
DTSTART:20250309T070000
END:DAYLIGHT
BEGIN:STANDARD
TZOFFSETFROM:-0400
TZOFFSETTO:-0500
TZNAME:EST
DTSTART:20251102T060000
END:STANDARD
BEGIN:DAYLIGHT
TZOFFSETFROM:-0500
TZOFFSETTO:-0400
TZNAME:EDT
DTSTART:20260308T070000
END:DAYLIGHT
BEGIN:STANDARD
TZOFFSETFROM:-0400
TZOFFSETTO:-0500
TZNAME:EST
DTSTART:20261101T060000
END:STANDARD
BEGIN:DAYLIGHT
TZOFFSETFROM:-0500
TZOFFSETTO:-0400
TZNAME:EDT
DTSTART:20270314T070000
END:DAYLIGHT
BEGIN:STANDARD
TZOFFSETFROM:-0400
TZOFFSETTO:-0500
TZNAME:EST
DTSTART:20271107T060000
END:STANDARD
BEGIN:DAYLIGHT
TZOFFSETFROM:-0500
TZOFFSETTO:-0400
TZNAME:EDT
DTSTART:20280312T070000
END:DAYLIGHT
BEGIN:STANDARD
TZOFFSETFROM:-0400
TZOFFSETTO:-0500
TZNAME:EST
DTSTART:20281105T060000
END:STANDARD
BEGIN:DAYLIGHT
TZOFFSETFROM:-0500
TZOFFSETTO:-0400
TZNAME:EDT
DTSTART:20290311T070000
END:DAYLIGHT
BEGIN:STANDARD
TZOFFSETFROM:-0400
TZOFFSETTO:-0500
TZNAME:EST
DTSTART:20291104T060000
END:STANDARD
END:VTIMEZONE
BEGIN:VEVENT
DTSTART;TZID=America/New_York:20260513T093000
DTEND;TZID=America/New_York:20260513T103000
DTSTAMP:20260422T102851
CREATED:20230718T210138Z
LAST-MODIFIED:20230718T210614Z
UID:10000680-1778664600-1778668200@consiliuminstitute.com
SUMMARY:Consilium Tapestry Community Meeting
DESCRIPTION:Connect with your Consilium Colleagues and share Consilium Kudos\, Congrats\, and Cares. 								\n				\n				\n				\n							\n			\n		\n						\n				\n				\n				\n									The event link will appear at the bottom of this page 15 minutes prior to start time.
URL:https://consiliuminstitute.com/event/consilium-tapestry-community-meeting/2026-05-13/
CATEGORIES:Meetings / Continuing Ed
ATTACH;FMTTYPE=image/jpeg:https://consiliuminstitute.com/wp-content/uploads/2022/12/consillium-1100.jpg
LOCATION:https://consiliuminstitute.com/event/consilium-tapestry-community-meeting/2026-05-13/
END:VEVENT
BEGIN:VEVENT
DTSTART;TZID=America/New_York:20260610T093000
DTEND;TZID=America/New_York:20260610T103000
DTSTAMP:20260422T102851
CREATED:20230718T210138Z
LAST-MODIFIED:20230718T210614Z
UID:10000681-1781083800-1781087400@consiliuminstitute.com
SUMMARY:Consilium Tapestry Community Meeting
DESCRIPTION:Connect with your Consilium Colleagues and share Consilium Kudos\, Congrats\, and Cares. 								\n				\n				\n				\n							\n			\n		\n						\n				\n				\n				\n									The event link will appear at the bottom of this page 15 minutes prior to start time.
URL:https://consiliuminstitute.com/event/consilium-tapestry-community-meeting/2026-06-10/
CATEGORIES:Meetings / Continuing Ed
ATTACH;FMTTYPE=image/jpeg:https://consiliuminstitute.com/wp-content/uploads/2022/12/consillium-1100.jpg
LOCATION:https://consiliuminstitute.com/event/consilium-tapestry-community-meeting/2026-06-10/
END:VEVENT
BEGIN:VEVENT
DTSTART;TZID=America/New_York:20260708T093000
DTEND;TZID=America/New_York:20260708T103000
DTSTAMP:20260422T102851
CREATED:20230718T210138Z
LAST-MODIFIED:20230718T210614Z
UID:10000682-1783503000-1783506600@consiliuminstitute.com
SUMMARY:Consilium Tapestry Community Meeting
DESCRIPTION:Connect with your Consilium Colleagues and share Consilium Kudos\, Congrats\, and Cares. 								\n				\n				\n				\n							\n			\n		\n						\n				\n				\n				\n									The event link will appear at the bottom of this page 15 minutes prior to start time.
URL:https://consiliuminstitute.com/event/consilium-tapestry-community-meeting/2026-07-08/
CATEGORIES:Meetings / Continuing Ed
ATTACH;FMTTYPE=image/jpeg:https://consiliuminstitute.com/wp-content/uploads/2022/12/consillium-1100.jpg
LOCATION:https://consiliuminstitute.com/event/consilium-tapestry-community-meeting/2026-07-08/
END:VEVENT
BEGIN:VEVENT
DTSTART;TZID=America/New_York:20260812T093000
DTEND;TZID=America/New_York:20260812T103000
DTSTAMP:20260422T102851
CREATED:20230718T210138Z
LAST-MODIFIED:20230718T210614Z
UID:10000683-1786527000-1786530600@consiliuminstitute.com
SUMMARY:Consilium Tapestry Community Meeting
DESCRIPTION:Connect with your Consilium Colleagues and share Consilium Kudos\, Congrats\, and Cares. 								\n				\n				\n				\n							\n			\n		\n						\n				\n				\n				\n									The event link will appear at the bottom of this page 15 minutes prior to start time.
URL:https://consiliuminstitute.com/event/consilium-tapestry-community-meeting/2026-08-12/
CATEGORIES:Meetings / Continuing Ed
ATTACH;FMTTYPE=image/jpeg:https://consiliuminstitute.com/wp-content/uploads/2022/12/consillium-1100.jpg
LOCATION:https://consiliuminstitute.com/event/consilium-tapestry-community-meeting/2026-08-12/
END:VEVENT
BEGIN:VEVENT
DTSTART;TZID=America/New_York:20260909T093000
DTEND;TZID=America/New_York:20260909T103000
DTSTAMP:20260422T102851
CREATED:20230718T210138Z
LAST-MODIFIED:20230718T210614Z
UID:10000684-1788946200-1788949800@consiliuminstitute.com
SUMMARY:Consilium Tapestry Community Meeting
DESCRIPTION:Connect with your Consilium Colleagues and share Consilium Kudos\, Congrats\, and Cares. 								\n				\n				\n				\n							\n			\n		\n						\n				\n				\n				\n									The event link will appear at the bottom of this page 15 minutes prior to start time.
URL:https://consiliuminstitute.com/event/consilium-tapestry-community-meeting/2026-09-09/
CATEGORIES:Meetings / Continuing Ed
ATTACH;FMTTYPE=image/jpeg:https://consiliuminstitute.com/wp-content/uploads/2022/12/consillium-1100.jpg
LOCATION:https://consiliuminstitute.com/event/consilium-tapestry-community-meeting/2026-09-09/
END:VEVENT
BEGIN:VEVENT
DTSTART;TZID=America/New_York:20261014T093000
DTEND;TZID=America/New_York:20261014T103000
DTSTAMP:20260422T102851
CREATED:20230718T210138Z
LAST-MODIFIED:20230718T210614Z
UID:10000685-1791970200-1791973800@consiliuminstitute.com
SUMMARY:Consilium Tapestry Community Meeting
DESCRIPTION:Connect with your Consilium Colleagues and share Consilium Kudos\, Congrats\, and Cares. 								\n				\n				\n				\n							\n			\n		\n						\n				\n				\n				\n									The event link will appear at the bottom of this page 15 minutes prior to start time.
URL:https://consiliuminstitute.com/event/consilium-tapestry-community-meeting/2026-10-14/
CATEGORIES:Meetings / Continuing Ed
ATTACH;FMTTYPE=image/jpeg:https://consiliuminstitute.com/wp-content/uploads/2022/12/consillium-1100.jpg
LOCATION:https://consiliuminstitute.com/event/consilium-tapestry-community-meeting/2026-10-14/
END:VEVENT
BEGIN:VEVENT
DTSTART;TZID=America/New_York:20261111T093000
DTEND;TZID=America/New_York:20261111T103000
DTSTAMP:20260422T102851
CREATED:20230718T210138Z
LAST-MODIFIED:20230718T210614Z
UID:10000686-1794389400-1794393000@consiliuminstitute.com
SUMMARY:Consilium Tapestry Community Meeting
DESCRIPTION:Connect with your Consilium Colleagues and share Consilium Kudos\, Congrats\, and Cares. 								\n				\n				\n				\n							\n			\n		\n						\n				\n				\n				\n									The event link will appear at the bottom of this page 15 minutes prior to start time.
URL:https://consiliuminstitute.com/event/consilium-tapestry-community-meeting/2026-11-11/
CATEGORIES:Meetings / Continuing Ed
ATTACH;FMTTYPE=image/jpeg:https://consiliuminstitute.com/wp-content/uploads/2022/12/consillium-1100.jpg
LOCATION:https://consiliuminstitute.com/event/consilium-tapestry-community-meeting/2026-11-11/
END:VEVENT
BEGIN:VEVENT
DTSTART;TZID=America/New_York:20261209T093000
DTEND;TZID=America/New_York:20261209T103000
DTSTAMP:20260422T102851
CREATED:20230718T210138Z
LAST-MODIFIED:20230718T210614Z
UID:10000687-1796808600-1796812200@consiliuminstitute.com
SUMMARY:Consilium Tapestry Community Meeting
DESCRIPTION:Connect with your Consilium Colleagues and share Consilium Kudos\, Congrats\, and Cares. 								\n				\n				\n				\n							\n			\n		\n						\n				\n				\n				\n									The event link will appear at the bottom of this page 15 minutes prior to start time.
URL:https://consiliuminstitute.com/event/consilium-tapestry-community-meeting/2026-12-09/
CATEGORIES:Meetings / Continuing Ed
ATTACH;FMTTYPE=image/jpeg:https://consiliuminstitute.com/wp-content/uploads/2022/12/consillium-1100.jpg
LOCATION:https://consiliuminstitute.com/event/consilium-tapestry-community-meeting/2026-12-09/
END:VEVENT
BEGIN:VEVENT
DTSTART;TZID=America/New_York:20270113T093000
DTEND;TZID=America/New_York:20270113T103000
DTSTAMP:20260422T102851
CREATED:20230718T210138Z
LAST-MODIFIED:20230718T210614Z
UID:10000688-1799832600-1799836200@consiliuminstitute.com
SUMMARY:Consilium Tapestry Community Meeting
DESCRIPTION:Connect with your Consilium Colleagues and share Consilium Kudos\, Congrats\, and Cares. 								\n				\n				\n				\n							\n			\n		\n						\n				\n				\n				\n									The event link will appear at the bottom of this page 15 minutes prior to start time.
URL:https://consiliuminstitute.com/event/consilium-tapestry-community-meeting/2027-01-13/
CATEGORIES:Meetings / Continuing Ed
ATTACH;FMTTYPE=image/jpeg:https://consiliuminstitute.com/wp-content/uploads/2022/12/consillium-1100.jpg
LOCATION:https://consiliuminstitute.com/event/consilium-tapestry-community-meeting/2027-01-13/
END:VEVENT
BEGIN:VEVENT
DTSTART;TZID=America/New_York:20270210T093000
DTEND;TZID=America/New_York:20270210T103000
DTSTAMP:20260422T102851
CREATED:20230718T210138Z
LAST-MODIFIED:20230718T210614Z
UID:10000689-1802251800-1802255400@consiliuminstitute.com
SUMMARY:Consilium Tapestry Community Meeting
DESCRIPTION:Connect with your Consilium Colleagues and share Consilium Kudos\, Congrats\, and Cares. 								\n				\n				\n				\n							\n			\n		\n						\n				\n				\n				\n									The event link will appear at the bottom of this page 15 minutes prior to start time.
URL:https://consiliuminstitute.com/event/consilium-tapestry-community-meeting/2027-02-10/
CATEGORIES:Meetings / Continuing Ed
ATTACH;FMTTYPE=image/jpeg:https://consiliuminstitute.com/wp-content/uploads/2022/12/consillium-1100.jpg
LOCATION:https://consiliuminstitute.com/event/consilium-tapestry-community-meeting/2027-02-10/
END:VEVENT
BEGIN:VEVENT
DTSTART;TZID=America/New_York:20270310T093000
DTEND;TZID=America/New_York:20270310T103000
DTSTAMP:20260422T102851
CREATED:20230718T210138Z
LAST-MODIFIED:20230718T210614Z
UID:10000690-1804671000-1804674600@consiliuminstitute.com
SUMMARY:Consilium Tapestry Community Meeting
DESCRIPTION:Connect with your Consilium Colleagues and share Consilium Kudos\, Congrats\, and Cares. 								\n				\n				\n				\n							\n			\n		\n						\n				\n				\n				\n									The event link will appear at the bottom of this page 15 minutes prior to start time.
URL:https://consiliuminstitute.com/event/consilium-tapestry-community-meeting/2027-03-10/
CATEGORIES:Meetings / Continuing Ed
ATTACH;FMTTYPE=image/jpeg:https://consiliuminstitute.com/wp-content/uploads/2022/12/consillium-1100.jpg
LOCATION:https://consiliuminstitute.com/event/consilium-tapestry-community-meeting/2027-03-10/
END:VEVENT
BEGIN:VEVENT
DTSTART;TZID=America/New_York:20270414T093000
DTEND;TZID=America/New_York:20270414T103000
DTSTAMP:20260422T102851
CREATED:20230718T210138Z
LAST-MODIFIED:20230718T210614Z
UID:10000691-1807695000-1807698600@consiliuminstitute.com
SUMMARY:Consilium Tapestry Community Meeting
DESCRIPTION:Connect with your Consilium Colleagues and share Consilium Kudos\, Congrats\, and Cares. 								\n				\n				\n				\n							\n			\n		\n						\n				\n				\n				\n									The event link will appear at the bottom of this page 15 minutes prior to start time.
URL:https://consiliuminstitute.com/event/consilium-tapestry-community-meeting/2027-04-14/
CATEGORIES:Meetings / Continuing Ed
ATTACH;FMTTYPE=image/jpeg:https://consiliuminstitute.com/wp-content/uploads/2022/12/consillium-1100.jpg
LOCATION:https://consiliuminstitute.com/event/consilium-tapestry-community-meeting/2027-04-14/
END:VEVENT
BEGIN:VEVENT
DTSTART;TZID=America/New_York:20270512T093000
DTEND;TZID=America/New_York:20270512T103000
DTSTAMP:20260422T102851
CREATED:20230718T210138Z
LAST-MODIFIED:20230718T210614Z
UID:10000692-1810114200-1810117800@consiliuminstitute.com
SUMMARY:Consilium Tapestry Community Meeting
DESCRIPTION:Connect with your Consilium Colleagues and share Consilium Kudos\, Congrats\, and Cares. 								\n				\n				\n				\n							\n			\n		\n						\n				\n				\n				\n									The event link will appear at the bottom of this page 15 minutes prior to start time.
URL:https://consiliuminstitute.com/event/consilium-tapestry-community-meeting/2027-05-12/
CATEGORIES:Meetings / Continuing Ed
ATTACH;FMTTYPE=image/jpeg:https://consiliuminstitute.com/wp-content/uploads/2022/12/consillium-1100.jpg
LOCATION:https://consiliuminstitute.com/event/consilium-tapestry-community-meeting/2027-05-12/
END:VEVENT
BEGIN:VEVENT
DTSTART;TZID=America/New_York:20270609T093000
DTEND;TZID=America/New_York:20270609T103000
DTSTAMP:20260422T102851
CREATED:20230718T210138Z
LAST-MODIFIED:20230718T210614Z
UID:10000693-1812533400-1812537000@consiliuminstitute.com
SUMMARY:Consilium Tapestry Community Meeting
DESCRIPTION:Connect with your Consilium Colleagues and share Consilium Kudos\, Congrats\, and Cares. 								\n				\n				\n				\n							\n			\n		\n						\n				\n				\n				\n									The event link will appear at the bottom of this page 15 minutes prior to start time.
URL:https://consiliuminstitute.com/event/consilium-tapestry-community-meeting/2027-06-09/
CATEGORIES:Meetings / Continuing Ed
ATTACH;FMTTYPE=image/jpeg:https://consiliuminstitute.com/wp-content/uploads/2022/12/consillium-1100.jpg
LOCATION:https://consiliuminstitute.com/event/consilium-tapestry-community-meeting/2027-06-09/
END:VEVENT
BEGIN:VEVENT
DTSTART;TZID=America/New_York:20270714T093000
DTEND;TZID=America/New_York:20270714T103000
DTSTAMP:20260422T102851
CREATED:20230718T210138Z
LAST-MODIFIED:20230718T210614Z
UID:10000694-1815557400-1815561000@consiliuminstitute.com
SUMMARY:Consilium Tapestry Community Meeting
DESCRIPTION:Connect with your Consilium Colleagues and share Consilium Kudos\, Congrats\, and Cares. 								\n				\n				\n				\n							\n			\n		\n						\n				\n				\n				\n									The event link will appear at the bottom of this page 15 minutes prior to start time.
URL:https://consiliuminstitute.com/event/consilium-tapestry-community-meeting/2027-07-14/
CATEGORIES:Meetings / Continuing Ed
ATTACH;FMTTYPE=image/jpeg:https://consiliuminstitute.com/wp-content/uploads/2022/12/consillium-1100.jpg
LOCATION:https://consiliuminstitute.com/event/consilium-tapestry-community-meeting/2027-07-14/
END:VEVENT
BEGIN:VEVENT
DTSTART;TZID=America/New_York:20270811T093000
DTEND;TZID=America/New_York:20270811T103000
DTSTAMP:20260422T102851
CREATED:20230718T210138Z
LAST-MODIFIED:20230718T210614Z
UID:10000695-1817976600-1817980200@consiliuminstitute.com
SUMMARY:Consilium Tapestry Community Meeting
DESCRIPTION:Connect with your Consilium Colleagues and share Consilium Kudos\, Congrats\, and Cares. 								\n				\n				\n				\n							\n			\n		\n						\n				\n				\n				\n									The event link will appear at the bottom of this page 15 minutes prior to start time.
URL:https://consiliuminstitute.com/event/consilium-tapestry-community-meeting/2027-08-11/
CATEGORIES:Meetings / Continuing Ed
ATTACH;FMTTYPE=image/jpeg:https://consiliuminstitute.com/wp-content/uploads/2022/12/consillium-1100.jpg
LOCATION:https://consiliuminstitute.com/event/consilium-tapestry-community-meeting/2027-08-11/
END:VEVENT
BEGIN:VEVENT
DTSTART;TZID=America/New_York:20270908T093000
DTEND;TZID=America/New_York:20270908T103000
DTSTAMP:20260422T102851
CREATED:20230718T210138Z
LAST-MODIFIED:20230718T210614Z
UID:10000696-1820395800-1820399400@consiliuminstitute.com
SUMMARY:Consilium Tapestry Community Meeting
DESCRIPTION:Connect with your Consilium Colleagues and share Consilium Kudos\, Congrats\, and Cares. 								\n				\n				\n				\n							\n			\n		\n						\n				\n				\n				\n									The event link will appear at the bottom of this page 15 minutes prior to start time.
URL:https://consiliuminstitute.com/event/consilium-tapestry-community-meeting/2027-09-08/
CATEGORIES:Meetings / Continuing Ed
ATTACH;FMTTYPE=image/jpeg:https://consiliuminstitute.com/wp-content/uploads/2022/12/consillium-1100.jpg
LOCATION:https://consiliuminstitute.com/event/consilium-tapestry-community-meeting/2027-09-08/
END:VEVENT
BEGIN:VEVENT
DTSTART;TZID=America/New_York:20271013T093000
DTEND;TZID=America/New_York:20271013T103000
DTSTAMP:20260422T102851
CREATED:20230718T210138Z
LAST-MODIFIED:20230718T210614Z
UID:10000697-1823419800-1823423400@consiliuminstitute.com
SUMMARY:Consilium Tapestry Community Meeting
DESCRIPTION:Connect with your Consilium Colleagues and share Consilium Kudos\, Congrats\, and Cares. 								\n				\n				\n				\n							\n			\n		\n						\n				\n				\n				\n									The event link will appear at the bottom of this page 15 minutes prior to start time.
URL:https://consiliuminstitute.com/event/consilium-tapestry-community-meeting/2027-10-13/
CATEGORIES:Meetings / Continuing Ed
ATTACH;FMTTYPE=image/jpeg:https://consiliuminstitute.com/wp-content/uploads/2022/12/consillium-1100.jpg
LOCATION:https://consiliuminstitute.com/event/consilium-tapestry-community-meeting/2027-10-13/
END:VEVENT
BEGIN:VEVENT
DTSTART;TZID=America/New_York:20271110T093000
DTEND;TZID=America/New_York:20271110T103000
DTSTAMP:20260422T102851
CREATED:20230718T210138Z
LAST-MODIFIED:20230718T210614Z
UID:10000698-1825839000-1825842600@consiliuminstitute.com
SUMMARY:Consilium Tapestry Community Meeting
DESCRIPTION:Connect with your Consilium Colleagues and share Consilium Kudos\, Congrats\, and Cares. 								\n				\n				\n				\n							\n			\n		\n						\n				\n				\n				\n									The event link will appear at the bottom of this page 15 minutes prior to start time.
URL:https://consiliuminstitute.com/event/consilium-tapestry-community-meeting/2027-11-10/
CATEGORIES:Meetings / Continuing Ed
ATTACH;FMTTYPE=image/jpeg:https://consiliuminstitute.com/wp-content/uploads/2022/12/consillium-1100.jpg
LOCATION:https://consiliuminstitute.com/event/consilium-tapestry-community-meeting/2027-11-10/
END:VEVENT
BEGIN:VEVENT
DTSTART;TZID=America/New_York:20271208T093000
DTEND;TZID=America/New_York:20271208T103000
DTSTAMP:20260422T102851
CREATED:20230718T210138Z
LAST-MODIFIED:20230718T210614Z
UID:10000699-1828258200-1828261800@consiliuminstitute.com
SUMMARY:Consilium Tapestry Community Meeting
DESCRIPTION:Connect with your Consilium Colleagues and share Consilium Kudos\, Congrats\, and Cares. 								\n				\n				\n				\n							\n			\n		\n						\n				\n				\n				\n									The event link will appear at the bottom of this page 15 minutes prior to start time.
URL:https://consiliuminstitute.com/event/consilium-tapestry-community-meeting/2027-12-08/
CATEGORIES:Meetings / Continuing Ed
ATTACH;FMTTYPE=image/jpeg:https://consiliuminstitute.com/wp-content/uploads/2022/12/consillium-1100.jpg
LOCATION:https://consiliuminstitute.com/event/consilium-tapestry-community-meeting/2027-12-08/
END:VEVENT
BEGIN:VEVENT
DTSTART;TZID=America/New_York:20280112T093000
DTEND;TZID=America/New_York:20280112T103000
DTSTAMP:20260422T102851
CREATED:20230718T210138Z
LAST-MODIFIED:20230718T210614Z
UID:10000700-1831282200-1831285800@consiliuminstitute.com
SUMMARY:Consilium Tapestry Community Meeting
DESCRIPTION:Connect with your Consilium Colleagues and share Consilium Kudos\, Congrats\, and Cares. 								\n				\n				\n				\n							\n			\n		\n						\n				\n				\n				\n									The event link will appear at the bottom of this page 15 minutes prior to start time.
URL:https://consiliuminstitute.com/event/consilium-tapestry-community-meeting/2028-01-12/
CATEGORIES:Meetings / Continuing Ed
ATTACH;FMTTYPE=image/jpeg:https://consiliuminstitute.com/wp-content/uploads/2022/12/consillium-1100.jpg
LOCATION:https://consiliuminstitute.com/event/consilium-tapestry-community-meeting/2028-01-12/
END:VEVENT
BEGIN:VEVENT
DTSTART;TZID=America/New_York:20280209T093000
DTEND;TZID=America/New_York:20280209T103000
DTSTAMP:20260422T102851
CREATED:20230718T210138Z
LAST-MODIFIED:20230718T210614Z
UID:10000701-1833701400-1833705000@consiliuminstitute.com
SUMMARY:Consilium Tapestry Community Meeting
DESCRIPTION:Connect with your Consilium Colleagues and share Consilium Kudos\, Congrats\, and Cares. 								\n				\n				\n				\n							\n			\n		\n						\n				\n				\n				\n									The event link will appear at the bottom of this page 15 minutes prior to start time.
URL:https://consiliuminstitute.com/event/consilium-tapestry-community-meeting/2028-02-09/
CATEGORIES:Meetings / Continuing Ed
ATTACH;FMTTYPE=image/jpeg:https://consiliuminstitute.com/wp-content/uploads/2022/12/consillium-1100.jpg
LOCATION:https://consiliuminstitute.com/event/consilium-tapestry-community-meeting/2028-02-09/
END:VEVENT
BEGIN:VEVENT
DTSTART;TZID=America/New_York:20280308T093000
DTEND;TZID=America/New_York:20280308T103000
DTSTAMP:20260422T102852
CREATED:20230718T210138Z
LAST-MODIFIED:20230718T210614Z
UID:10000702-1836120600-1836124200@consiliuminstitute.com
SUMMARY:Consilium Tapestry Community Meeting
DESCRIPTION:Connect with your Consilium Colleagues and share Consilium Kudos\, Congrats\, and Cares. 								\n				\n				\n				\n							\n			\n		\n						\n				\n				\n				\n									The event link will appear at the bottom of this page 15 minutes prior to start time.
URL:https://consiliuminstitute.com/event/consilium-tapestry-community-meeting/2028-03-08/
CATEGORIES:Meetings / Continuing Ed
ATTACH;FMTTYPE=image/jpeg:https://consiliuminstitute.com/wp-content/uploads/2022/12/consillium-1100.jpg
LOCATION:https://consiliuminstitute.com/event/consilium-tapestry-community-meeting/2028-03-08/
END:VEVENT
BEGIN:VEVENT
DTSTART;TZID=America/New_York:20280412T093000
DTEND;TZID=America/New_York:20280412T103000
DTSTAMP:20260422T102852
CREATED:20230718T210138Z
LAST-MODIFIED:20230718T210614Z
UID:10000703-1839144600-1839148200@consiliuminstitute.com
SUMMARY:Consilium Tapestry Community Meeting
DESCRIPTION:Connect with your Consilium Colleagues and share Consilium Kudos\, Congrats\, and Cares. 								\n				\n				\n				\n							\n			\n		\n						\n				\n				\n				\n									The event link will appear at the bottom of this page 15 minutes prior to start time.
URL:https://consiliuminstitute.com/event/consilium-tapestry-community-meeting/2028-04-12/
CATEGORIES:Meetings / Continuing Ed
ATTACH;FMTTYPE=image/jpeg:https://consiliuminstitute.com/wp-content/uploads/2022/12/consillium-1100.jpg
LOCATION:https://consiliuminstitute.com/event/consilium-tapestry-community-meeting/2028-04-12/
END:VEVENT
BEGIN:VEVENT
DTSTART;TZID=America/New_York:20280510T093000
DTEND;TZID=America/New_York:20280510T103000
DTSTAMP:20260422T102852
CREATED:20230718T210138Z
LAST-MODIFIED:20230718T210614Z
UID:10000704-1841563800-1841567400@consiliuminstitute.com
SUMMARY:Consilium Tapestry Community Meeting
DESCRIPTION:Connect with your Consilium Colleagues and share Consilium Kudos\, Congrats\, and Cares. 								\n				\n				\n				\n							\n			\n		\n						\n				\n				\n				\n									The event link will appear at the bottom of this page 15 minutes prior to start time.
URL:https://consiliuminstitute.com/event/consilium-tapestry-community-meeting/2028-05-10/
CATEGORIES:Meetings / Continuing Ed
ATTACH;FMTTYPE=image/jpeg:https://consiliuminstitute.com/wp-content/uploads/2022/12/consillium-1100.jpg
LOCATION:https://consiliuminstitute.com/event/consilium-tapestry-community-meeting/2028-05-10/
END:VEVENT
BEGIN:VEVENT
DTSTART;TZID=America/New_York:20280614T093000
DTEND;TZID=America/New_York:20280614T103000
DTSTAMP:20260422T102852
CREATED:20230718T210138Z
LAST-MODIFIED:20230718T210614Z
UID:10000705-1844587800-1844591400@consiliuminstitute.com
SUMMARY:Consilium Tapestry Community Meeting
DESCRIPTION:Connect with your Consilium Colleagues and share Consilium Kudos\, Congrats\, and Cares. 								\n				\n				\n				\n							\n			\n		\n						\n				\n				\n				\n									The event link will appear at the bottom of this page 15 minutes prior to start time.
URL:https://consiliuminstitute.com/event/consilium-tapestry-community-meeting/2028-06-14/
CATEGORIES:Meetings / Continuing Ed
ATTACH;FMTTYPE=image/jpeg:https://consiliuminstitute.com/wp-content/uploads/2022/12/consillium-1100.jpg
LOCATION:https://consiliuminstitute.com/event/consilium-tapestry-community-meeting/2028-06-14/
END:VEVENT
BEGIN:VEVENT
DTSTART;TZID=America/New_York:20280712T093000
DTEND;TZID=America/New_York:20280712T103000
DTSTAMP:20260422T102852
CREATED:20230718T210138Z
LAST-MODIFIED:20230718T210614Z
UID:10000706-1847007000-1847010600@consiliuminstitute.com
SUMMARY:Consilium Tapestry Community Meeting
DESCRIPTION:Connect with your Consilium Colleagues and share Consilium Kudos\, Congrats\, and Cares. 								\n				\n				\n				\n							\n			\n		\n						\n				\n				\n				\n									The event link will appear at the bottom of this page 15 minutes prior to start time.
URL:https://consiliuminstitute.com/event/consilium-tapestry-community-meeting/2028-07-12/
CATEGORIES:Meetings / Continuing Ed
ATTACH;FMTTYPE=image/jpeg:https://consiliuminstitute.com/wp-content/uploads/2022/12/consillium-1100.jpg
LOCATION:https://consiliuminstitute.com/event/consilium-tapestry-community-meeting/2028-07-12/
END:VEVENT
END:VCALENDAR